BEGIN:VCALENDAR
VERSION:2.0
CALSCALE:GREGORIAN
BEGIN:VEVENT
DTSTART:20240912T160000
DTEND:20240912T220000
LOCATION:Location
DTSTAMP:20260420T051648
SUMMARY:BioNanoNet Annual Forum & BNN Networking Session 2024 – Satellite Event of ECCPM Forum
URL;VALUE=URI:https://www.bnn.at/events/bionanonet-annual-forum-bnn-networking-session-2024-satellite-event-of-eccpm-forum/
DESCRIPTION:
UID:20260420T051648-20240912T160000-20240912T220000
END:VEVENT
END:VCALENDAR